BEGIN:VCALENDAR
VERSION:2.0
PRODID:-//GEWO Feinmechanik GmbH &amp; Co. KG - ECPv6.15.20//NONSGML v1.0//EN
CALSCALE:GREGORIAN
METHOD:PUBLISH
X-WR-CALNAME:GEWO Feinmechanik GmbH &amp; Co. KG
X-ORIGINAL-URL:https://www.gewo.net
X-WR-CALDESC:Veranstaltungen für GEWO Feinmechanik GmbH &amp; Co. KG
REFRESH-INTERVAL;VALUE=DURATION:PT1H
X-Robots-Tag:noindex
X-PUBLISHED-TTL:PT1H
BEGIN:VTIMEZONE
TZID:Europe/Berlin
BEGIN:DAYLIGHT
TZOFFSETFROM:+0100
TZOFFSETTO:+0200
TZNAME:CEST
DTSTART:20250330T010000
END:DAYLIGHT
BEGIN:STANDARD
TZOFFSETFROM:+0200
TZOFFSETTO:+0100
TZNAME:CET
DTSTART:20251026T010000
END:STANDARD
BEGIN:DAYLIGHT
TZOFFSETFROM:+0100
TZOFFSETTO:+0200
TZNAME:CEST
DTSTART:20260329T010000
END:DAYLIGHT
BEGIN:STANDARD
TZOFFSETFROM:+0200
TZOFFSETTO:+0100
TZNAME:CET
DTSTART:20261025T010000
END:STANDARD
BEGIN:DAYLIGHT
TZOFFSETFROM:+0100
TZOFFSETTO:+0200
TZNAME:CEST
DTSTART:20270328T010000
END:DAYLIGHT
BEGIN:STANDARD
TZOFFSETFROM:+0200
TZOFFSETTO:+0100
TZNAME:CET
DTSTART:20271031T010000
END:STANDARD
END:VTIMEZONE
BEGIN:VEVENT
DTSTART;TZID=Europe/Berlin:20260423T080000
DTEND;TZID=Europe/Berlin:20260423T143000
DTSTAMP:20260422T150705
CREATED:20241113T125109Z
LAST-MODIFIED:20260331T063726Z
UID:25980867-1776931200-1776954600@www.gewo.net
SUMMARY:Girls Day 2026
DESCRIPTION:Girl Power for High Tech\nAm 23. April 2026 öffnen wir unser Unternehmen für den Girls Day. \nGEWO präsentiert 3 Ausbildungsberufe: \n\nFeinwerkmechanikerin\nMechatronikerin\nProduktionsfachkraft Chemie\n\nIm Rahmen von Werksführungen und Praxisstationen zeigen wir spannende Aufgaben unserer technischen Ausbildungsberufe.
URL:https://www.gewo.net/veranstaltung/girls-day-2025/
LOCATION:GEWO Feinmechanik | Werk 2\, Bahnhofstraße 45\, Hörlkofen\, 85457\, Deutschland
CATEGORIES:Inhouse-Veranstaltung
ATTACH;FMTTYPE=image/jpeg:https://www.gewo.net/wp-content/uploads/Girls-Day.jpg
ORGANIZER;CN="GEWO Feinmechanik":MAILTO:info@gewo.net
END:VEVENT
BEGIN:VEVENT
DTSTART;TZID=Europe/Berlin:20260430T073000
DTEND;TZID=Europe/Berlin:20260430T133000
DTSTAMP:20260422T150705
CREATED:20260331T062619Z
LAST-MODIFIED:20260331T062619Z
UID:25981784-1777534200-1777555800@www.gewo.net
SUMMARY:Berufsinformationstag Mittelschule Finsing
DESCRIPTION:Wir präsentieren unsere Ausbildungsmöglichkeiten auf dem Berufsinformationstag an der Mittelschule Finsing.
URL:https://www.gewo.net/veranstaltung/berufsinformationstag-mittelschule-finsing/
LOCATION:Mittelschule Finsing\, Neufinsinger Str. 35\, Finsing\, 85464\, Germany
CATEGORIES:Schulmesse
ATTACH;FMTTYPE=image/jpeg:https://www.gewo.net/wp-content/uploads/Mittelschule-Finsing.jpg
ORGANIZER;CN="Mittelschule Finsing":MAILTO:sekretariat@schule-finsing.de
END:VEVENT
BEGIN:VEVENT
DTSTART;TZID=Europe/Berlin:20260702T114500
DTEND;TZID=Europe/Berlin:20260702T150000
DTSTAMP:20260422T150705
CREATED:20260331T064615Z
LAST-MODIFIED:20260331T065030Z
UID:25981793-1782992700-1783004400@www.gewo.net
SUMMARY:Berufsmesse und Workshop Anne-Frank-Gymnasium Erding
DESCRIPTION:Wir präsentieren unsere Ausbildungsmöglichkeiten auf der Berufsmesse am Anne-Frank-Gymnasium. Am Vormittag können die Schülerinnen und Schüler ab der 9. Jahrgangsstufe von 11.45 bis 13.10 Uhr über unsere Ausbildungsberufe und Studiengänge informieren. Am Nachmittag von 13.20 bis 15.00 Uhr finden 30-minütige Workshops statt\, wo die Schülerinnen und Schüler tiefer in die Berufsfelder einsteigen können.
URL:https://www.gewo.net/veranstaltung/berufsmesse-und-workshop-anne-frank-gymnasium-erding/
LOCATION:Anne-Frank-Gymnasium Erding\, Heilig-Blut-Weg 8\, Erding\, 85435
CATEGORIES:Schulmesse
ATTACH;FMTTYPE=image/jpeg:https://www.gewo.net/wp-content/uploads/GEWO-Stand-4.jpg
ORGANIZER;CN="Anne-Frank-Gymnasium":MAILTO:verw@afg-erding.de
END:VEVENT
BEGIN:VEVENT
DTSTART;VALUE=DATE:20260704
DTEND;VALUE=DATE:20260706
DTSTAMP:20260422T150706
CREATED:20260331T092101Z
LAST-MODIFIED:20260331T092154Z
UID:25981802-1783123200-1783295999@www.gewo.net
SUMMARY:GEWO Cup 2026 | 1. Wochenende
DESCRIPTION:Als Hauptsponsor freuen wir uns auf den GEWO Cup bei der SpVgg Altenerding. Rund 1.500 junge Talente zeigen an zwei Turnierwochenende Fairplay und Teamgeist. Ganz nach unserem Geschmack.
URL:https://www.gewo.net/veranstaltung/gewo-cup-2026-1-wochenende/
LOCATION:Sepp Brenninger Stadion\, Pretzener Weg 26\, Erding\, 85435
CATEGORIES:Sponsoring
ATTACH;FMTTYPE=image/jpeg:https://www.gewo.net/wp-content/uploads/GEWO-Cup-2025.jpg
ORGANIZER;CN="SpVgg Altenerding e.V.":MAILTO:info@spvgg-altenerding-fussball.de
END:VEVENT
BEGIN:VEVENT
DTSTART;VALUE=DATE:20260718
DTEND;VALUE=DATE:20260720
DTSTAMP:20260422T150706
CREATED:20260331T092414Z
LAST-MODIFIED:20260331T092456Z
UID:25981807-1784332800-1784505599@www.gewo.net
SUMMARY:GEWO Cup 2026 | 2. Wochenende
DESCRIPTION:Als Hauptsponsor freuen wir uns auf den GEWO Cup bei der SpVgg Altenerding. Rund 1.500 junge Talente zeigen an zwei Turnierwochenende Fairplay und Teamgeist. Ganz nach unserem Geschmack.
URL:https://www.gewo.net/veranstaltung/gewo-cup-2026-2-wochenende/
LOCATION:Sepp Brenninger Stadion\, Pretzener Weg 26\, Erding\, 85435
CATEGORIES:Sponsoring
ATTACH;FMTTYPE=image/jpeg:https://www.gewo.net/wp-content/uploads/GEWO-Cup-2025.jpg
ORGANIZER;CN="SpVgg Altenerding e.V.":MAILTO:info@spvgg-altenerding-fussball.de
END:VEVENT
END:VCALENDAR